BEGIN:VCALENDAR
VERSION:2.0
PRODID:-//AAE - ECPv6.15.15//NONSGML v1.0//EN
CALSCALE:GREGORIAN
METHOD:PUBLISH
X-ORIGINAL-URL:https://academieairespace.com
X-WR-CALDESC:Évènements pour AAE
REFRESH-INTERVAL;VALUE=DURATION:PT1H
X-Robots-Tag:noindex
X-PUBLISHED-TTL:PT1H
BEGIN:VTIMEZONE
TZID:Europe/Paris
BEGIN:DAYLIGHT
TZOFFSETFROM:+0100
TZOFFSETTO:+0200
TZNAME:CEST
DTSTART:20250330T010000
END:DAYLIGHT
BEGIN:STANDARD
TZOFFSETFROM:+0200
TZOFFSETTO:+0100
TZNAME:CET
DTSTART:20251026T010000
END:STANDARD
BEGIN:DAYLIGHT
TZOFFSETFROM:+0100
TZOFFSETTO:+0200
TZNAME:CEST
DTSTART:20260329T010000
END:DAYLIGHT
BEGIN:STANDARD
TZOFFSETFROM:+0200
TZOFFSETTO:+0100
TZNAME:CET
DTSTART:20261025T010000
END:STANDARD
BEGIN:DAYLIGHT
TZOFFSETFROM:+0100
TZOFFSETTO:+0200
TZNAME:CEST
DTSTART:20270328T010000
END:DAYLIGHT
BEGIN:STANDARD
TZOFFSETFROM:+0200
TZOFFSETTO:+0100
TZNAME:CET
DTSTART:20271031T010000
END:STANDARD
END:VTIMEZONE
BEGIN:VEVENT
DTSTART;TZID=Europe/Paris:20260429T180000
DTEND;TZID=Europe/Paris:20260429T190000
DTSTAMP:20260419T211527
CREATED:20260402T075846Z
LAST-MODIFIED:20260402T075846Z
UID:82742-1777485600-1777489200@academieairespace.com
SUMMARY:Exploration spatiale\, qu’est ce qui pousse l’humanité vers le cosmos ?
DESCRIPTION:Dans le cadre du Cycle de conférences “Les Rendez-vous Espace” 2026 organisé par l’Association des Amis de la Cité de l’espace en partenariat avec l’Académie de l’Air et de l’Espace\, l’Association Aéronautique et Astronautique de France et la Cité de l’espace \n\nConférence présentée par Eric Dautriat\, ancien Directeur Executif\, Clean Sky\, membre de l’AAE \nRobotique ou humaine\, l’exploration spatiale est avant tout un voyage. Le décollage d’un lanceur suscite une émotion singulière ; l’odyssée d’une sonde interplanétaire et à plus forte raison une éventuelle exploration humaine\, sont la poursuite d’une longue quête riche en légendes fascinant la plupart des civilisations. A quelles conceptions du monde l’exploration spatiale répond-elle et que peut-elle leur apporter en retour\, dans cet ensemencement réciproque entre représentations et réalité ? \nDes mythes de Prométhée et d’Icare au cinéma de science-fiction contemporain\, des philosophes d’hier aux divergences d’aujourd’hui\,  Eric Dautriat s’appuiera sur son livre Désir d’espace qui explore les composantes de l’imaginaire des hommes et leurs contradictions\, s’interrogeant sur ce qui\, aujourd’hui\, les pousse\, ou non\, vers le cosmos. \nInscription gratuite\n\n\n\n\n\n\n 
URL:https://academieairespace.com/evenement/exploration-spatiale-quest-ce-qui-pousse-lhumanite-vers-le-cosmos/
CATEGORIES:Evénements partenaires
ATTACH;FMTTYPE=image/jpeg:https://academieairespace.com/wp-content/uploads/2026/04/Designer-2-e1775116483599.jpg
END:VEVENT
END:VCALENDAR