BEGIN:VCALENDAR
VERSION:2.0
PRODID:-//AAE - ECPv6.15.15//NONSGML v1.0//EN
CALSCALE:GREGORIAN
METHOD:PUBLISH
X-WR-CALNAME:AAE
X-ORIGINAL-URL:https://academieairespace.com
X-WR-CALDESC:Évènements pour AAE
REFRESH-INTERVAL;VALUE=DURATION:PT1H
X-Robots-Tag:noindex
X-PUBLISHED-TTL:PT1H
BEGIN:VTIMEZONE
TZID:Europe/Paris
BEGIN:DAYLIGHT
TZOFFSETFROM:+0100
TZOFFSETTO:+0200
TZNAME:CEST
DTSTART:20250330T010000
END:DAYLIGHT
BEGIN:STANDARD
TZOFFSETFROM:+0200
TZOFFSETTO:+0100
TZNAME:CET
DTSTART:20251026T010000
END:STANDARD
BEGIN:DAYLIGHT
TZOFFSETFROM:+0100
TZOFFSETTO:+0200
TZNAME:CEST
DTSTART:20260329T010000
END:DAYLIGHT
BEGIN:STANDARD
TZOFFSETFROM:+0200
TZOFFSETTO:+0100
TZNAME:CET
DTSTART:20261025T010000
END:STANDARD
BEGIN:DAYLIGHT
TZOFFSETFROM:+0100
TZOFFSETTO:+0200
TZNAME:CEST
DTSTART:20270328T010000
END:DAYLIGHT
BEGIN:STANDARD
TZOFFSETFROM:+0200
TZOFFSETTO:+0100
TZNAME:CET
DTSTART:20271031T010000
END:STANDARD
END:VTIMEZONE
BEGIN:VEVENT
DTSTART;TZID=Europe/Paris:20261124T180000
DTEND;TZID=Europe/Paris:20261124T193000
DTSTAMP:20260421T185746
CREATED:20251210T104934Z
LAST-MODIFIED:20251210T104934Z
UID:81399-1795543200-1795548600@academieairespace.com
SUMMARY:1945-1960 : la renaissance de l'aviation militaire française
DESCRIPTION:Par Jean-Marc Olivier\, professeur d’histoire contemporaine\, co-fondateur et co-directeur de la revue “Nacelles. Passé et présent de l’aéronautique et du spatial”\, correspondant de l’AAE \nEn 1945\, l’Armée de l’air française n’existe pratiquement plus de manière indépendante. Le seul appareil national qu’elle peut mobiliser demeure le Dewoitine D.520\, totalement dépassé par les premiers avions à réaction. La France réussit cependant à rattraper son retard en quinze ans grâce aux capacités de ses personnels\, aux investissements massifs de l’État et à l’aide de ses alliés occidentaux. Dès 1952\, le chasseur Mystère IV de Dassault effectue son premier vol avant d’être produit à plus de 400 exemplaires. Puis\, en 1960\, la France fait exploser sa propre bombe atomique dont les principaux vecteurs envisagés sont des avions\, en particulier le Mirage IV de Dassault qui entre en service en 1964. \n\nEntrée libre et gratuite dans la limite des places disponibles. \nEn partenariat avec : \n\n\n\n\n\n\n \n\n\n\n[image] ©”Dassault Mystère IV A mis en service en 1955″ ©Cliché de Jean-Marc Olivier\, 16 août 2017\, musée de l’aéronautique du château de Savigny-lès-Baune
URL:https://academieairespace.com/evenement/1945-1960-la-renaissance-de-laviation-militaire-francaise/
CATEGORIES:AAE public et gratuit,Conférence
ATTACH;FMTTYPE=image/jpeg:https://academieairespace.com/wp-content/uploads/2025/12/11-24-2026-©Cliche-de-Jean-Marc-Olivier-16-aout-2017-musee-de-laeronautique-du-chateau-de-Savigny-les-Baune.jpg
END:VEVENT
END:VCALENDAR