BEGIN:VCALENDAR
VERSION:2.0
PRODID:-//AAE - ECPv6.15.15//NONSGML v1.0//EN
CALSCALE:GREGORIAN
METHOD:PUBLISH
X-ORIGINAL-URL:https://academieairespace.com
X-WR-CALDESC:Évènements pour AAE
REFRESH-INTERVAL;VALUE=DURATION:PT1H
X-Robots-Tag:noindex
X-PUBLISHED-TTL:PT1H
BEGIN:VTIMEZONE
TZID:Europe/Paris
BEGIN:DAYLIGHT
TZOFFSETFROM:+0100
TZOFFSETTO:+0200
TZNAME:CEST
DTSTART:20250330T010000
END:DAYLIGHT
BEGIN:STANDARD
TZOFFSETFROM:+0200
TZOFFSETTO:+0100
TZNAME:CET
DTSTART:20251026T010000
END:STANDARD
BEGIN:DAYLIGHT
TZOFFSETFROM:+0100
TZOFFSETTO:+0200
TZNAME:CEST
DTSTART:20260329T010000
END:DAYLIGHT
BEGIN:STANDARD
TZOFFSETFROM:+0200
TZOFFSETTO:+0100
TZNAME:CET
DTSTART:20261025T010000
END:STANDARD
BEGIN:DAYLIGHT
TZOFFSETFROM:+0100
TZOFFSETTO:+0200
TZNAME:CEST
DTSTART:20270328T010000
END:DAYLIGHT
BEGIN:STANDARD
TZOFFSETFROM:+0200
TZOFFSETTO:+0100
TZNAME:CET
DTSTART:20271031T010000
END:STANDARD
END:VTIMEZONE
BEGIN:VEVENT
DTSTART;TZID=Europe/Paris:20261001T180000
DTEND;TZID=Europe/Paris:20261001T193000
DTSTAMP:20260421T172629
CREATED:20260304T051735Z
LAST-MODIFIED:20260304T052006Z
UID:82585-1790877600-1790883000@academieairespace.com
SUMMARY:Euclid\, plongée dans l'univers profond
DESCRIPTION:Conférence présentée par Pierre Casenove\, chef de projet des contributions françaises Euclid\, CNES \nLancé en juillet 2023\, le télescope spatial Européen Euclid a commencé à sonder l’Univers en février 2024 pour une mission nominale de 6 ans à bord. Les premières images diffusées en novembre 2023 et mai 2024 ont démontré les capacités exceptionnelles du télescope. Suite à la première publication de données en Mars 2025\, la conférence reviendra sur les premières années de la mission au travers des difficultés rencontrées et des succès obtenus\, avant de présenter les premiers résultats scientifiques obtenus et les prochaines échéances du programme. \n\nInscription gratuite obligatoire \n(dans la limite des places disponibles) \n\n\n                \n                        NameCe champ n’est utilisé qu’à des fins de validation et devrait rester inchangé.Civilités(Nécessaire)\n                            \n                            \n                                                    Prénom\n                                                    \n                                                \n                            \n                            \n                                                            Nom\n                                                            \n                                                        \n                            \n                        E-mail(Nécessaire)\n                                \n                                    Saisissez un e-mail\n                                    \n                                \n                                \n                                    Confirmez l’e-mail\n                                    \n                                \n                                \n                            Je souhaite recevoir les informations de l'AAE\n								\n								Actualités\n							\n								\n								Evenements\n							\n								\n								Publications\n							\n								\n								Lettre PDF\n							RGPD(Nécessaire) J’accepte la politique de confidentialité.\n          \n            \n            \n            \n            \n            \n            \n            \n            \n            \n            \n            \n            \n            \n        \n                        Δ \n                        \n\n  \nLien utile : https://enseirb-matmeca.bordeaux-inp.fr/fr/se-deplacer-sur-le-campus \n\n\n\n\n\nEn partenariat avec\n\n\nL’AQUI-IHEDN s’associe à ce cycle de conférences\n\n\n\n\n\n\n\n\n[image] © ESA Euclid ConsortiumNASA image processing by JC Cuillandre CEA Paris-Saclay G. Anselmi.
URL:https://academieairespace.com/evenement/euclid-plongee-dans-lunivers-profond-2/
CATEGORIES:AAE public et gratuit,Conférence
ATTACH;FMTTYPE=image/jpeg:https://academieairespace.com/wp-content/uploads/2026/03/euclid-esa.jpg
END:VEVENT
BEGIN:VEVENT
DTSTART;TZID=Europe/Paris:20261027T180000
DTEND;TZID=Europe/Paris:20261027T193000
DTSTAMP:20260421T172629
CREATED:20251210T104631Z
LAST-MODIFIED:20251210T104631Z
UID:81393-1793124000-1793129400@academieairespace.com
SUMMARY:Télescopes Géants et Optique Adaptative : une révolution pour l'observation de l'espace
DESCRIPTION:Par Thierry Fusco\, directeur de recherches\, adjoint scientifique du département Optique\, ONERA \nL’optique adaptative a révolutionné l’imagerie à haute résolution en compensant en temps réel les effets néfastes de la turbulence atmosphérique. Devenue une composante clé des télescopes géants\, cette technologie multidisciplinaire permet aujourd’hui d’explorer l’univers avec une qualité d’image inédite\, de surveiller notre espace proche ou encore de focaliser des faisceaux laser à très grande distance. À travers plusieurs exemples récents et en se projetant dans le futur avec\, par exemple\, le projet PROVIDENCE\, cette conférence retracera les avancées scientifiques et techniques majeures et les défis à venir de l’optique adaptative. \n\nEntrée libre et gratuite dans la limite des places disponibles. \nEn partenariat avec : \n\n\n\n\n\n\n\n\n\n\n  \n[image] ©Providence ©Onera – M.Cherfi – 2024 – MR
URL:https://academieairespace.com/evenement/telescopes-geants-et-optique-adaptative-une-revolution-pour-lobservation-de-lespace/
CATEGORIES:AAE public et gratuit,Conférence
ATTACH;FMTTYPE=image/jpeg:https://academieairespace.com/wp-content/uploads/2025/12/10-27-2026-Providence-©Onera-M.Cherfi-2024-MR.jpg
END:VEVENT
END:VCALENDAR