BEGIN:VCALENDAR
VERSION:2.0
PRODID:-//AAE - ECPv6.15.15//NONSGML v1.0//EN
CALSCALE:GREGORIAN
METHOD:PUBLISH
X-WR-CALNAME:AAE
X-ORIGINAL-URL:https://academieairespace.com
X-WR-CALDESC:Évènements pour AAE
REFRESH-INTERVAL;VALUE=DURATION:PT1H
X-Robots-Tag:noindex
X-PUBLISHED-TTL:PT1H
BEGIN:VTIMEZONE
TZID:Europe/Paris
BEGIN:DAYLIGHT
TZOFFSETFROM:+0100
TZOFFSETTO:+0200
TZNAME:CEST
DTSTART:20250330T010000
END:DAYLIGHT
BEGIN:STANDARD
TZOFFSETFROM:+0200
TZOFFSETTO:+0100
TZNAME:CET
DTSTART:20251026T010000
END:STANDARD
BEGIN:DAYLIGHT
TZOFFSETFROM:+0100
TZOFFSETTO:+0200
TZNAME:CEST
DTSTART:20260329T010000
END:DAYLIGHT
BEGIN:STANDARD
TZOFFSETFROM:+0200
TZOFFSETTO:+0100
TZNAME:CET
DTSTART:20261025T010000
END:STANDARD
BEGIN:DAYLIGHT
TZOFFSETFROM:+0100
TZOFFSETTO:+0200
TZNAME:CEST
DTSTART:20270328T010000
END:DAYLIGHT
BEGIN:STANDARD
TZOFFSETFROM:+0200
TZOFFSETTO:+0100
TZNAME:CET
DTSTART:20271031T010000
END:STANDARD
END:VTIMEZONE
BEGIN:VEVENT
DTSTART;TZID=Europe/Paris:20260929T180000
DTEND;TZID=Europe/Paris:20260929T190000
DTSTAMP:20260421T160759
CREATED:20251210T104246Z
LAST-MODIFIED:20251210T104246Z
UID:81387-1790704800-1790708400@academieairespace.com
SUMMARY:Où en est-on de la vie sur Mars?
DESCRIPTION:Par Sylvestre Maurice\, astrophysicien-planétologue\, directeur de l’IRAP\, correspondant de l’AAE \nNous vivons une époque formidable : une vingtaine de véhicules robotisés ont exploré Mars depuis l’an 2000. Trophée de suprématie nationale\, champ d’expérimentations technologiques pour les industriels\, source d’émerveillement pour les peuples qui suivent avec une étonnante ferveur l’aventure des robots\, la planète rouge représente la plus belle quête pour les scientifiques qui\, eux\, cherchent méthodiquement si les martiens existent. Ils préparent la prochaine étape : la collecte d’échantillons qui seront rapportés sur Terre\, le graal des planétologues. Où en sommes-nous ? \n\nEntrée libre et gratuite dans la limite des places disponibles. \nEn partenariat avec : \n\n\n\n\n\n\n\n\n\n\n  \n[image] ©D.R. Curiosity-marker-band-valley
URL:https://academieairespace.com/evenement/ou-en-est-on-de-la-vie-sur-mars/
CATEGORIES:AAE public et gratuit,Conférence
ATTACH;FMTTYPE=image/jpeg:https://academieairespace.com/wp-content/uploads/2025/12/09-29-2026-©D.R.-Curiosity-marker-band-valley-scaled-1.jpg
END:VEVENT
END:VCALENDAR