BEGIN:VCALENDAR
VERSION:2.0
PRODID:-//AAE - ECPv6.15.15//NONSGML v1.0//EN
CALSCALE:GREGORIAN
METHOD:PUBLISH
X-WR-CALNAME:AAE
X-ORIGINAL-URL:https://academieairespace.com
X-WR-CALDESC:Évènements pour AAE
REFRESH-INTERVAL;VALUE=DURATION:PT1H
X-Robots-Tag:noindex
X-PUBLISHED-TTL:PT1H
BEGIN:VTIMEZONE
TZID:Europe/Paris
BEGIN:DAYLIGHT
TZOFFSETFROM:+0100
TZOFFSETTO:+0200
TZNAME:CEST
DTSTART:20240331T010000
END:DAYLIGHT
BEGIN:STANDARD
TZOFFSETFROM:+0200
TZOFFSETTO:+0100
TZNAME:CET
DTSTART:20241027T010000
END:STANDARD
BEGIN:DAYLIGHT
TZOFFSETFROM:+0100
TZOFFSETTO:+0200
TZNAME:CEST
DTSTART:20250330T010000
END:DAYLIGHT
BEGIN:STANDARD
TZOFFSETFROM:+0200
TZOFFSETTO:+0100
TZNAME:CET
DTSTART:20251026T010000
END:STANDARD
BEGIN:DAYLIGHT
TZOFFSETFROM:+0100
TZOFFSETTO:+0200
TZNAME:CEST
DTSTART:20260329T010000
END:DAYLIGHT
BEGIN:STANDARD
TZOFFSETFROM:+0200
TZOFFSETTO:+0100
TZNAME:CET
DTSTART:20261025T010000
END:STANDARD
END:VTIMEZONE
BEGIN:VEVENT
DTSTART;TZID=Europe/Paris:20251203T180000
DTEND;TZID=Europe/Paris:20251218T193000
DTSTAMP:20260421T202340
CREATED:20250318T145038Z
LAST-MODIFIED:20251016T073437Z
UID:79532-1764784800-1766086200@academieairespace.com
SUMMARY:Dans la fournaise solaire : derniers résultats de Solar Orbiter et Parker Solar Probe
DESCRIPTION:Par Alexis Rouillard\, chercheur CNRS\, IRAP et Philippe Louarn\, directeur de recherche CNRS\, IRAP \nPourquoi l’atmosphère du Soleil est-elle deux cents fois plus chaude que sa surface? Comment les vents et orages solaires sont-ils créés ? Pour répondre à ces grandes questions en astrophysique les sondes spatiales Parker Solar Probe et Solar Orbiter sont parties en 2018 et 2020 à la découverte de l’environnement proche du Soleil : la couronne solaire. \nAprès plusieurs années d’observations\, elles ont mis en évidence\, tout près du Soleil\, un environnement extrêmement dynamique constamment perturbé par des éjections de matières et apportent ainsi de nouveaux indices sur la formation des vents et orages solaires. \nInscription gratuite requise \n\nLes inscriptions sont closes. \n\n\n\n\n\nEn partenariat avec \n\n\n\n\n\n\n\n\n\n\n\n\n\n\n\n\n\nL’AQUI-IHEDN s’associe à ce cycle de conférences\n\n\n\n\n\n\n\n\n\n\n\n\n\n\n\n[image] ©Missions PSPsolO
URL:https://academieairespace.com/evenement/dans-la-fournaise-solaire-derniers-resultats-de-solar-orbiter-et-parker-solar-probe-2/
CATEGORIES:AAE public et gratuit,Conférence
ATTACH;FMTTYPE=image/jpeg:https://academieairespace.com/wp-content/uploads/2025/03/09-24-©Missions_PSP_SolO.jpg
END:VEVENT
END:VCALENDAR