BEGIN:VCALENDAR
VERSION:2.0
PRODID:-//AAE - ECPv6.15.15//NONSGML v1.0//EN
CALSCALE:GREGORIAN
METHOD:PUBLISH
X-ORIGINAL-URL:https://academieairespace.com
X-WR-CALDESC:Évènements pour AAE
REFRESH-INTERVAL;VALUE=DURATION:PT1H
X-Robots-Tag:noindex
X-PUBLISHED-TTL:PT1H
BEGIN:VTIMEZONE
TZID:Europe/Paris
BEGIN:DAYLIGHT
TZOFFSETFROM:+0100
TZOFFSETTO:+0200
TZNAME:CEST
DTSTART:20240331T010000
END:DAYLIGHT
BEGIN:STANDARD
TZOFFSETFROM:+0200
TZOFFSETTO:+0100
TZNAME:CET
DTSTART:20241027T010000
END:STANDARD
BEGIN:DAYLIGHT
TZOFFSETFROM:+0100
TZOFFSETTO:+0200
TZNAME:CEST
DTSTART:20250330T010000
END:DAYLIGHT
BEGIN:STANDARD
TZOFFSETFROM:+0200
TZOFFSETTO:+0100
TZNAME:CET
DTSTART:20251026T010000
END:STANDARD
BEGIN:DAYLIGHT
TZOFFSETFROM:+0100
TZOFFSETTO:+0200
TZNAME:CEST
DTSTART:20260329T010000
END:DAYLIGHT
BEGIN:STANDARD
TZOFFSETFROM:+0200
TZOFFSETTO:+0100
TZNAME:CET
DTSTART:20261025T010000
END:STANDARD
END:VTIMEZONE
BEGIN:VEVENT
DTSTART;TZID=Europe/Paris:20250603T123000
DTEND;TZID=Europe/Paris:20250603T140000
DTSTAMP:20260423T182112
CREATED:20250423T132547Z
LAST-MODIFIED:20250423T132613Z
UID:80073-1748953800-1748959200@academieairespace.com
SUMMARY:Space for European Defence and Security
DESCRIPTION:Lecture by General Jean-Daniel Testé\, former Commander\, Joint Space Command\, French armed forces\, member of the Air and Space Academy \nSpace systems are today providing major contributions to our overall Defence and Security architecture. Secure telecommunications\, intelligence gathering\, positioning and navigation\, space situation awareness\, weather forecasting\, are the main domains where space systems have become essential infrastructures. \nAt the same time\, their vulnerability is a concern\, but several protection techniques are now available to ensure their survivability in case of conflict. The various types of threats and how to protect our space systems will be described. \n  \nFree registration subject to seat availability.  \n\nDésolé. Ce formulaire n’est plus disponible. \n\nEvent organised by the Air and Space Academy and hosted by Académie royale de Belgique\, Brussels.
URL:https://academieairespace.com/evenement/space-for-european-defence-and-security/
CATEGORIES:AAE public et gratuit,Conférence
ATTACH;FMTTYPE=image/jpeg:https://academieairespace.com/wp-content/uploads/2025/04/ESA-Safety_and_security_applications_banner_pillars-1.jpg
END:VEVENT
BEGIN:VEVENT
DTSTART;TZID=Europe/Paris:20250623T180000
DTEND;TZID=Europe/Paris:20250623T193000
DTSTAMP:20260423T182112
CREATED:20250317T132341Z
LAST-MODIFIED:20250317T132510Z
UID:79517-1750701600-1750707000@academieairespace.com
SUMMARY:IA\, connectivité et cybersécurité dans l’avionique
DESCRIPTION:Par Marc Gatti\, directeur scientifique et relations académiques\, Thales AVS France\, correspondant de l’AAE \nCette présentation introduit les trois piliers clés de la plateforme avionique du futur\, et présente les défis associés. Le terme « plateforme avionique » abordé ici comprend tous les systèmes embarqués nécessaires à un avion pour voler (quel que soit l’avion\, commercial\, de chasse\, de transport\, drone ou cabines volantes) et toutes les fonctions embarquées critiques et moins critiques nécessaires au vol (contrôle de commande de vol\, gestion de la propulsion)\, au pilotage (gestion du carburant\, antigivrage\, TCAS\, TAWS\, etc.)\, aux utilités (portes et toboggans\, toilettes\, climatisation\, etc.)\, à la maintenance\, et à la connectivité. L’IA\, la connectivité et la cybersécurité dans l’avionique sont les trois piliers et les principaux défis que nous devons relever. Cette conférence présente les travaux en cours. \nInscription gratuite requise \n\nLes inscriptions sont closes. \n\n\n\n\n\nEn partenariat avec \n\n\n\n\n\n\n\n\n\n\n\n\n\n\n\n\n\nL’AQUI-IHEDN s’associe à ce cycle de conférences\n\n\n\n\n\n\n\n\n\n\n\n\n\n\n\n[image] Image réalisée par IA
URL:https://academieairespace.com/evenement/ia-connectivite-et-cybersecurite-dans-lavionique/
CATEGORIES:AAE public et gratuit,Conférence
ATTACH;FMTTYPE=image/jpeg:https://academieairespace.com/wp-content/uploads/2025/03/realisee-par-IA-300x171-1.jpg
END:VEVENT
BEGIN:VEVENT
DTSTART;TZID=Europe/Paris:20250624T180000
DTEND;TZID=Europe/Paris:20250624T193000
DTSTAMP:20260423T182112
CREATED:20250117T090523Z
LAST-MODIFIED:20250117T090940Z
UID:78637-1750788000-1750793400@academieairespace.com
SUMMARY:Les taïkonautes à la conquête de l’espace : le programme spatial habité chinois
DESCRIPTION:Conférence présentée par Philippe Coué\, membre de l’Académie Internationale d’Astronautique (IAA) \nLa Chine a projeté d’envoyer ses ressortissants dans le cosmos dès le démarrage de son programme spatial dans les années 1960. Mais\, il fallut attendre la fin du XXe siècle et le décollage économique de la Chine pour que cet objectif se réalise. Aujourd’hui\, les taïkonautes chinois occupent en permanence l’orbite terrestre et s’apprêtent à marcher sur la Lune avant la fin de cette décennie. Ils vont s’y installer durablement pour préparer la prochaine étape : Mars. \n  \n\nEntrée libre et gratuite (dans la limite des places disponibles) \nEn partenariat avec : \n\n\n\n\n\n\n\n\n\n\n  \n[image] ©CNSA – Les taikonautes chinois à proximité du module lunaire Lanyue
URL:https://academieairespace.com/evenement/les-taikonautes-a-la-conquete-de-lespace-le-programme-spatial-habite-chinois/
CATEGORIES:AAE public et gratuit,Conférence
ATTACH;FMTTYPE=image/jpeg:https://academieairespace.com/wp-content/uploads/2025/01/CNSALanyue.jpg
END:VEVENT
END:VCALENDAR