BEGIN:VCALENDAR
VERSION:2.0
PRODID:-//AAE - ECPv6.15.15//NONSGML v1.0//EN
CALSCALE:GREGORIAN
METHOD:PUBLISH
X-WR-CALNAME:AAE
X-ORIGINAL-URL:https://academieairespace.com
X-WR-CALDESC:Évènements pour AAE
REFRESH-INTERVAL;VALUE=DURATION:PT1H
X-Robots-Tag:noindex
X-PUBLISHED-TTL:PT1H
BEGIN:VTIMEZONE
TZID:Europe/Paris
BEGIN:DAYLIGHT
TZOFFSETFROM:+0100
TZOFFSETTO:+0200
TZNAME:CEST
DTSTART:20240331T010000
END:DAYLIGHT
BEGIN:STANDARD
TZOFFSETFROM:+0200
TZOFFSETTO:+0100
TZNAME:CET
DTSTART:20241027T010000
END:STANDARD
BEGIN:DAYLIGHT
TZOFFSETFROM:+0100
TZOFFSETTO:+0200
TZNAME:CEST
DTSTART:20250330T010000
END:DAYLIGHT
BEGIN:STANDARD
TZOFFSETFROM:+0200
TZOFFSETTO:+0100
TZNAME:CET
DTSTART:20251026T010000
END:STANDARD
BEGIN:DAYLIGHT
TZOFFSETFROM:+0100
TZOFFSETTO:+0200
TZNAME:CEST
DTSTART:20260329T010000
END:DAYLIGHT
BEGIN:STANDARD
TZOFFSETFROM:+0200
TZOFFSETTO:+0100
TZNAME:CET
DTSTART:20261025T010000
END:STANDARD
END:VTIMEZONE
BEGIN:VEVENT
DTSTART;TZID=Europe/Paris:20250514T190000
DTEND;TZID=Europe/Paris:20250514T203000
DTSTAMP:20260423T200642
CREATED:20250424T070332Z
LAST-MODIFIED:20250424T070513Z
UID:80086-1747249200-1747254600@academieairespace.com
SUMMARY:Conquête spatiale 2.0 :  Espace utile ou futile ?
DESCRIPTION:Dans le cadre du Cycle de conférences “Les Rendez-vous Espace” 2025 organisé par l’Association des Amis de la Cité de l’espace en partenariat avec l’Académie de l’Air et de l’Espace\, l’Association Aéronautique et Astronautique de France et la Cité de l’espace \nRelecture de l’histoire spatiale\nAprès le petit pas sur la Lune en 1969\, l’Espace n’était plus à conquérir mais le moyen et le lieu de création de valeur économique\, sociétale\, scientifique… Pendant quatre décennies\, des audaces raisonnables n’en ont pas moins bouleversé le monde.\nEt puis est venu le temps des grandes audaces\, des fortes ambitions pour une nouvelle « conquête » de l’Espace\, de la Lune\, de Mars\, des astéroïdes… Jusqu’à ce que\, récemment\, le cœur du programme spatial américain s’effondre et entraine avec lui des pans entiers du programme spatial européen. La bulle a-t-elle éclatée ? \nRelire l’histoire spatiale\, d’Apollo à Musk\, du rêve à la dystopie\, de l’ESRO à l’ESA\, dénouer l’entrelacs des coopérations et des rivalités qui ont nourri cette histoire\, permettent de comprendre ces errances et distinguer l’utile du futile. L’Espace doit cesser d’être un terrain de jeux futiles et redevenir un domaine de responsabilités assumées\, au service de notre planète et des sociétés humaines que nous y avons formées. \nConférence présentée par Philipe Lugherini\, Ingénieur de l’École Polytechnique et de SUPAERO (aujourd’hui ISAE-SUPAERO)\, il a exercé à la DGA comme responsable de la composante spatiale du programme HELIOS (premier satellite militaire d’observation de la Terre en France)\, puis dans l’industrie comme directeur espace de SODERN\, équipementier spatial\, PDG de Nuclétudes et de CILAS et enfin directeur de la stratégie d’ArianeGroup. \nInscription gratuite \n\n  \n\n\n\n\n\n\n\n\n\n[image] ©pas-astronaute-lune-scaled-1
URL:https://academieairespace.com/evenement/conquete-spatiale-2-0-espace-utile-ou-futile/
CATEGORIES:AAE public et gratuit,Conférence,Evénements partenaires
ATTACH;FMTTYPE=image/jpeg:https://academieairespace.com/wp-content/uploads/2025/04/pas-astronaute-lune.jpg
END:VEVENT
BEGIN:VEVENT
DTSTART;TZID=Europe/Paris:20250515T143000
DTEND;TZID=Europe/Paris:20250515T173000
DTSTAMP:20260423T200642
CREATED:20250408T094701Z
LAST-MODIFIED:20250408T095638Z
UID:80022-1747319400-1747330200@academieairespace.com
SUMMARY:Le transport aérien au cœur des turbulences mondiales
DESCRIPTION:Bien sûr\, il faut commencer par définir ce qu’est le fret aérien civil. Quels types de marchandises sont  transportées? Quelle est l’importance de ce transport dans les soutes passagers ? Quel est l’impact sur les capacités tout cargo? … Préciser que le présent est important mais quelles sont les perspectives et les conséquences sur l’environnement ? Pour les armées\, elles ont un devoir de réactivité pour répondre aux attentes politiques et aux enjeux des opérations partout dans le monde. La voie aérienne est de facto une arme indispensable des acheminements stratégiques\, à la fois réactive\, sûre\, modulable et réversible. Les armées doivent donc disposer d’un arsenal de solutions adapté et équilibré\, entre moyens militaires et affrètement aérien. \nAprès-midi de conférences : \n\n“L’intégration du fret dans le transport civil” par Pascal MORVAN\, président WR Consulting Management Change Mergers\n“Les armées confrontées aux réalités du monde aérien” par Colonel Hervé BRAUN\, chef de la Division Acheminement\, Centre du Soutien des Opérations et des Acheminements (CSOA)\n\n\nEntrée libre et gratuite dans la limite des places disponibles. \nou en direct sur la chaîne Youtube de la Cité des sciences et de l’industrie : https://www.youtube.com/live/FwVb14laqLU \n\n  \nEn partenariat avec :
URL:https://academieairespace.com/evenement/le-transport-aerien-au-coeur-des-turbulences-mondiales/
CATEGORIES:AAE public et gratuit,Conférence
ATTACH;FMTTYPE=image/jpeg:https://academieairespace.com/wp-content/uploads/2025/04/fret-aerien-300x167-1.jpg
END:VEVENT
BEGIN:VEVENT
DTSTART;TZID=Europe/Paris:20250527T180000
DTEND;TZID=Europe/Paris:20250527T193000
DTSTAMP:20260423T200642
CREATED:20250108T071834Z
LAST-MODIFIED:20250108T071902Z
UID:78587-1748368800-1748374200@academieairespace.com
SUMMARY:Euclid\, plongée dans l’Univers profond
DESCRIPTION:Conférence présentée par Pierre Casenove\, chef de projet des contributions françaises Euclid\, CNES \nLancé en juillet 2023\, le télescope spatial Européen Euclid a commencé à sonder l’Univers en février 2024 pour une mission nominale de 6 ans à bord. Les premières images diffusées en novembre 2023 et mai 2024 ont démontré les capacités exceptionnelles du télescope. \nSuite à la première publication de données en Mars 2025\, la conférence reviendra sur les deux premières années de la mission au travers des difficultés rencontrées et des succès obtenus\, avant de présenter les premiers résultats scientifiques obtenus et les prochaines échéances du programme. \n\nEntrée libre et gratuite (dans la limite des places disponibles). \nEn partenariat avec : \n\n\n\n\n\n\n\n\n\n\n\nCrédit photo : ©ESA Euclid ConsortiumNASA image processing by JC Cuillandre CEA Paris-Saclay G. Anselmi
URL:https://academieairespace.com/evenement/euclid-plongee-dans-lunivers-profond/
CATEGORIES:AAE public et gratuit,Conférence
ATTACH;FMTTYPE=image/jpeg:https://academieairespace.com/wp-content/uploads/2025/01/05-27-©ESAEuclidEuclid-ConsortiumNASA-image-processing-by-JC-Cuillandre-CEA-Paris-Saclay-G.-Anselmi-scaled.jpg
END:VEVENT
END:VCALENDAR