BEGIN:VCALENDAR
VERSION:2.0
PRODID:-//AAE - ECPv6.15.15//NONSGML v1.0//EN
CALSCALE:GREGORIAN
METHOD:PUBLISH
X-ORIGINAL-URL:https://academieairespace.com
X-WR-CALDESC:Évènements pour AAE
REFRESH-INTERVAL;VALUE=DURATION:PT1H
X-Robots-Tag:noindex
X-PUBLISHED-TTL:PT1H
BEGIN:VTIMEZONE
TZID:Europe/Paris
BEGIN:DAYLIGHT
TZOFFSETFROM:+0100
TZOFFSETTO:+0200
TZNAME:CEST
DTSTART:20240331T010000
END:DAYLIGHT
BEGIN:STANDARD
TZOFFSETFROM:+0200
TZOFFSETTO:+0100
TZNAME:CET
DTSTART:20241027T010000
END:STANDARD
BEGIN:DAYLIGHT
TZOFFSETFROM:+0100
TZOFFSETTO:+0200
TZNAME:CEST
DTSTART:20250330T010000
END:DAYLIGHT
BEGIN:STANDARD
TZOFFSETFROM:+0200
TZOFFSETTO:+0100
TZNAME:CET
DTSTART:20251026T010000
END:STANDARD
BEGIN:DAYLIGHT
TZOFFSETFROM:+0100
TZOFFSETTO:+0200
TZNAME:CEST
DTSTART:20260329T010000
END:DAYLIGHT
BEGIN:STANDARD
TZOFFSETFROM:+0200
TZOFFSETTO:+0100
TZNAME:CET
DTSTART:20261025T010000
END:STANDARD
END:VTIMEZONE
BEGIN:VEVENT
DTSTART;TZID=Europe/Paris:20250128T180000
DTEND;TZID=Europe/Paris:20250128T193000
DTSTAMP:20260425T173103
CREATED:20241009T120444Z
LAST-MODIFIED:20250106T090644Z
UID:77136-1738087200-1738092600@academieairespace.com
SUMMARY:Atteindrons-nous les étoiles ?
DESCRIPTION:Conférence dans le cadre du Festival “Scroll !” 2025 proposé par la métropole de Toulouse. \nPar Roland Lehoucq\, astrophysicien au CEA Saclay \nLe voyage dans l’espace est l’un des thèmes favoris des œuvres de science-fiction. Certains films\, comme Star Wars ou Star Trek\, mettent en scène des vaisseaux fabuleux qui permettent d’aller d’une planète à l’autre comme on prend l’autobus. D’autres\, comme Avatar\, montrent des vaisseaux plus plausibles. Tous font rêver même si nous sentons bien qu’un voyage interstellaire n’est pas pour demain. Alors\, qu’est-ce qui fondamentalement nous empêche de voyager vers les étoiles ?  \nRoland Lehoucq sera disponible\, après la conférence\, pour une séance de dédicaces de ses ouvrages. La Librairie de la Renaissance sera présente à l’entrée de la conférence et proposera à la vente les ouvrages de Roland Lehoucq. \n[image] © Adobe stock (générée par IA) \n\nEntrée libre et gratuite (dans la limite des places disponibles) \nEn partenariat avec :
URL:https://academieairespace.com/evenement/atteindrons-nous-les-etoiles/
CATEGORIES:AAE public et gratuit,Conférence
ATTACH;FMTTYPE=image/jpeg:https://academieairespace.com/wp-content/uploads/2024/10/01-28-@image-generee-par-IA-scaled-1.jpeg
END:VEVENT
BEGIN:VEVENT
DTSTART;TZID=Europe/Paris:20250130T143000
DTEND;TZID=Europe/Paris:20250130T170000
DTSTAMP:20260425T173103
CREATED:20241030T151342Z
LAST-MODIFIED:20241219T091903Z
UID:77307-1738247400-1738256400@academieairespace.com
SUMMARY:L’IA et la formation : de l’université au monde professionnel
DESCRIPTION:L’Intelligence Artificielle est maintenant présente à chaque pas de notre vie ; toute action\, tout appareil impliquent de l’IA. Toutefois\, beaucoup de mystères existent autour de ces deux lettres IA. Selon certains\, elles vont changer notre vie\, pour d’autres\, elles doivent être considérées avec beaucoup de précaution. Peu importe\, ce nouvel « outil » doit être intégré dans notre formation et les jeunes ont bien mis en évidence certains avantages de son utilisation : faire faire ses devoirs par l’IA ! Très bien\, mais est-ce efficace pour leur formation ? \nLes enseignants assurant la formation des nouvelles générations doivent s’adapter à cet outil en changeant leurs approches pédagogiques pour en tirer profit tout en explicitant les risques d’une utilisation sans un fort esprit critique des réponses fournies. L’introduction de l’IA dans les entreprises induit des actions complémentaires pour la Formation Tout au Long de la Vie (FTLV). Nos deux experts traiteront de ces deux étapes de la formation. \nAprès-midi de conférences : \n\n“L’utilisation de l’IA dans les études initiales : accélérer la transition pour en faire un progrès” par Laurent SIMON\, Professeur Bordeaux INP\, Porteur Chaire IA Digne de Confiance\, Directeur du département informatique ENSEIRB-MATMECA\n“L’IA en entreprise : de l’information à la formation” par Juliette MATTIOLI\, Expert Fellow en IA\, Thales\n\n  \n\nEntrée libre et gratuite dans la limite des places disponibles. \nou à suivre en direct sur la chaîne Youtube de la Cité des sciences et de l’industrie \n\n 
URL:https://academieairespace.com/evenement/lia-et-la-formation-de-luniversite-au-monde-professionnel/
CATEGORIES:AAE public et gratuit,Conférence
ATTACH;FMTTYPE=image/jpeg:https://academieairespace.com/wp-content/uploads/2024/10/artificial-intelligence-6767502_1280-1.jpg
END:VEVENT
END:VCALENDAR